BEGIN:VCALENDAR
VERSION:2.0
PRODID:-//eventon.com NONSGML v1.0//EN
CALSCALE:GREGORIAN
METHOD:PUBLISH
BEGIN:VEVENT
UID:69ec07877c828
DTSTAMP:20260425T001503Z
DTSTART:20260204T060000Z
DTEND:20260204T080000Z
LOCATION:Sisjö Yoga Center Datavägen 10c
SUMMARY:Ashtanga mysore style drop in till kl 07:30
DESCRIPTION:Ashtanga mysore style drop in till kl 07:30\nhttps://www.sisjoy
 ogacenter.com/events/sommarstangt/var/ri-2.l-L1
URL:https://www.sisjoyogacenter.com/events/sommarstangt/var/ri-2.l-L1
END:VEVENT
END:VCALENDAR