BEGIN:VCALENDAR
VERSION:2.0
PRODID:-//eventon.com NONSGML v1.0//EN
CALSCALE:GREGORIAN
METHOD:PUBLISH
BEGIN:VEVENT
UID:69ec1d783d4f2
DTSTAMP:20260425T014840Z
DTSTART:20260129T060000Z
DTEND:20260129T080000Z
LOCATION:Sisjö Yoga Center Datavägen 10c
SUMMARY:Ashtanga mysore style drop in till kl 07:30
DESCRIPTION:Ashtanga mysore style drop in till kl 07:30\nhttps://www.sisjoy
 ogacenter.com/events/sommarstangt/
URL:https://www.sisjoyogacenter.com/events/sommarstangt/
END:VEVENT
END:VCALENDAR