BEGIN:VCALENDAR
VERSION:2.0
PRODID:-//eventon.com NONSGML v1.0//EN
CALSCALE:GREGORIAN
METHOD:PUBLISH
BEGIN:VEVENT
UID:69e885c7d479f
DTSTAMP:20260422T082439Z
DTSTART:20260103T080000Z
DTEND:20260103T100000Z
LOCATION:Sisjö Yoga Center Datavägen 10c
SUMMARY:Ashtanga ledd klass alla ståendes positioner därefter egen takt\,  för dig som vill endast göra egen takt drop in till 9:30
DESCRIPTION:Ashtanga ledd klass alla ståendes positioner därefter egen ta
 kt\,  för dig som vill endast göra egen takt drop in till 9:30\nhttps://w
 ww.sisjoyogacenter.com/events/kurs-ashtanga-yoga/
URL:https://www.sisjoyogacenter.com/events/kurs-ashtanga-yoga/
END:VEVENT
END:VCALENDAR