BEGIN:VCALENDAR
VERSION:2.0
PRODID:-//eventon.com NONSGML v1.0//EN
CALSCALE:GREGORIAN
METHOD:PUBLISH
BEGIN:VEVENT
UID:69e73aad7e83d
DTSTAMP:20260421T085157Z
DTSTART:20260105T160000Z
DTEND:20260105T171500Z
LOCATION:Sisjö Yoga Center Datavägen 10c
SUMMARY:Medicinsk yoga
DESCRIPTION:Medicinsk yoga\nhttps://www.sisjoyogacenter.com/events/medicins
 k-yoga-2/
URL:https://www.sisjoyogacenter.com/events/medicinsk-yoga-2/
END:VEVENT
END:VCALENDAR